BEGIN:VCALENDAR
VERSION:2.0
PRODID:EVENTFROG//EVENT//ICAL
BEGIN:VEVENT
UID:20260420T093049Z-7450881242428356590@eventfrog.ch
DTSTAMP:20260420T093049Z
DTSTART:20260725T073000Z
DTEND:20260725T133000Z
SUMMARY:Naturbasierte Gesundheitsförderung und Stressbewältigung ZH
DESCRIPTION:6-stündiger Shinrin Yoku Tageskurs mit Achtsamkeitsübungen, Qi Gong und Naturerlebnissen in Zürich. Für mehr  Entspannung, Selbstfürsorge, Regeneration, Gesundheitsförderung und Stressprävention\n\nhttps://eventfrog.ch/de/p/gesundheit-spiritualitaet/gesundheit-wohlbefinden/naturbasierte-gesundheitsfoerderung-und-stressbewaeltigung-zh-7450881242428356590.html
LOCATION:Grillplatz Vitaparcours Entlisbergwald
GEO:47.334678;8.523438
URL:https://eventfrog.ch/de/p/gesundheit-spiritualitaet/gesundheit-wohlbefinden/naturbasierte-gesundheitsfoerderung-und-stressbewaeltigung-zh-7450881242428356590.html
END:VEVENT
END:VCALENDAR