BEGIN:VCALENDAR
VERSION:2.0
PRODID:EVENTFROG//EVENT//ICAL
BEGIN:VEVENT
UID:20260420T034907Z-7450883285524210643@eventfrog.ch
DTSTAMP:20260420T034907Z
DTSTART:20260604T110000Z
DTEND:20260604T140000Z
SUMMARY:Naturverbindung, Entspannung und Achtsamkeit in Zürich
DESCRIPTION:Entspannung und Achtsamkeit im Wald erleben: Halbtageskurs zur Förderung der Naturverbundenheit & Stressprävention mit Sinneserfahrungen,  Achtsamkeits- und Atemübungen, um Ruhe und Balance zu finden.\n\nhttps://eventfrog.ch/de/p/gesundheit-spiritualitaet/gesundheit-wohlbefinden/naturverbindung-entspannung-und-achtsamkeit-in-zuerich-7450883285524210643.html
LOCATION:Grillplatz Vitaparcours Entlisbergwald, Paradiesstrasse 45, 8038 Zürich, CH
GEO:47.334678;8.523438
URL:https://eventfrog.ch/de/p/gesundheit-spiritualitaet/gesundheit-wohlbefinden/naturverbindung-entspannung-und-achtsamkeit-in-zuerich-7450883285524210643.html
END:VEVENT
END:VCALENDAR