BEGIN:VCALENDAR
VERSION:2.0
PRODID:EVENTFROG//EVENT//ICAL
BEGIN:VEVENT
UID:20260419T173900Z-7450884064238652455@eventfrog.ch
DTSTAMP:20260419T173900Z
DTSTART:20260701T161500Z
DTEND:20260701T204500Z
SUMMARY:Lindau by night
DESCRIPTION:Geniessen Sie eine Hin- und Rückfahrt zu einem gemütlichen Aufenthalt im mittelalterlich geprägten Städtchen.\n\nhttps://eventfrog.ch/de/p/freizeit-ausfluege/ausfahrt/lindau-by-night-7450884064238652455.html
LOCATION:Rorschach Hafen
GEO:47.478652;9.493739
URL:https://eventfrog.ch/de/p/freizeit-ausfluege/ausfahrt/lindau-by-night-7450884064238652455.html
END:VEVENT
END:VCALENDAR