BEGIN:VCALENDAR
VERSION:2.0
PRODID:EVENTFROG//EVENT//ICAL
BEGIN:VEVENT
UID:20260420T082622Z-7450910156416657497@eventfrog.ch
DTSTAMP:20260420T082622Z
DTSTART:20260626T170000Z
DTEND:20260626T181500Z
SUMMARY:The Four Seasons Reimagined. From Richter to Vivaldi
DESCRIPTION:Plongez dans un dialogue musical exceptionnel entre deux compositeurs visionnaires, Antonio Vivaldi et Max Richter, interprété par une formation en quatuor de l’Ensemble Sinfonietta Bern !\n\nhttps://eventfrog.ch/en/p/classical-music-operas/classical-music/the-four-seasons-reimagined-from-richter-to-vivaldi-7450910156416657497.html
LOCATION:Eglise du Sacré-Cœur
GEO:46.200542;6.141577
URL:https://eventfrog.ch/en/p/classical-music-operas/classical-music/the-four-seasons-reimagined-from-richter-to-vivaldi-7450910156416657497.html
END:VEVENT
END:VCALENDAR