BEGIN:VCALENDAR
VERSION:2.0
PRODID:EVENTFROG//EVENT//ICAL
BEGIN:VEVENT
UID:20260424T082956Z-7450919135435861323@eventfrog.ch
DTSTAMP:20260424T082956Z
DTSTART:20260620T140000Z
DTEND:20260620T153000Z
SUMMARY:„Floarea Vieții”, un film de Victor Maxian -  Geneva
DESCRIPTION:„Floarea vieții”, un film de Victor Maxian. Filmul documentar arată cum Varvara Buzila descoperă decorul şi ospitalitatea caselor din satele de pe malurile Nistrului.\n\nhttps://eventfrog.ch/en/p/theatre-stage/stage-event/floarea-vieii-un-film-de-victor-maxian-geneva-7450919135435861323.html
LOCATION:Salle communale des Délices
GEO:46.235936;6.126363
URL:https://eventfrog.ch/en/p/theatre-stage/stage-event/floarea-vieii-un-film-de-victor-maxian-geneva-7450919135435861323.html
END:VEVENT
END:VCALENDAR