BEGIN:VCALENDAR
VERSION:2.0
PRODID:EVENTFROG//EVENT//ICAL
BEGIN:VEVENT
UID:20260424T065315Z-7450994749777966911@eventfrog.ch
DTSTAMP:20260424T065315Z
DTSTART:20260509T150000Z
DTEND:20260509T200000Z
SUMMARY:Baisakhi Baithak - Krosswindz (Member Tickets)
DESCRIPTION:Bengali rock/folk-fusion band Krosswindz\n\nhttps://eventfrog.ch/en/p/musicals-shows/musical/baisakhi-baithak-krosswindz-member-tickets-7450994749777966911.html
LOCATION:Mehrzweckhalle Ebnet
GEO:47.447440;8.651956
URL:https://eventfrog.ch/en/p/musicals-shows/musical/baisakhi-baithak-krosswindz-member-tickets-7450994749777966911.html
END:VEVENT
END:VCALENDAR