BEGIN:VCALENDAR
VERSION:2.0
PRODID:EVENTFROG//EVENT//ICAL
BEGIN:VEVENT
UID:20260426T041316Z-7451023912136131297@eventfrog.ch
DTSTAMP:20260426T041316Z
DTSTART:20260529T180000Z
SUMMARY:The End of Radio
DESCRIPTION:Indie Noise Pop aus Österreich.\n\nhttps://eventfrog.ch/de/p/konzerte/the-end-of-radio-7451023912136131297.html
LOCATION:Engel
GEO:47.409380;9.755068
URL:https://eventfrog.ch/de/p/konzerte/the-end-of-radio-7451023912136131297.html
END:VEVENT
END:VCALENDAR