BEGIN:VCALENDAR
VERSION:2.0
PRODID:EVENTFROG//EVENT//ICAL
BEGIN:VEVENT
UID:20260425T162021Z-7451027719410690124@eventfrog.ch
DTSTAMP:20260425T162021Z
DTSTART:20260607T180000Z
DTEND:20260607T190000Z
SUMMARY:Sommerbühne: Theater 111 - Der Mittler
DESCRIPTION:«Der Mittler» - Leben von Johann Künzle erzählt.\n\nhttps://eventfrog.ch/de/p/theater-buehne/sommerbuehne-theater-111-der-mittler-7451027719410690124.html
LOCATION:Schloss Wartegg
GEO:47.478425;9.530131
URL:https://eventfrog.ch/de/p/theater-buehne/sommerbuehne-theater-111-der-mittler-7451027719410690124.html
END:VEVENT
END:VCALENDAR