BEGIN:VCALENDAR
VERSION:2.0
PRODID:EVENTFROG//EVENT//ICAL
BEGIN:VEVENT
UID:20260424T154303Z-7451031668700273691@eventfrog.ch
DTSTAMP:20260424T154303Z
DTSTART:20260601T071500Z
DTEND:20260601T091500Z
SUMMARY:ElternCafé
DESCRIPTION:Spielen, austauschen, gemütliches Zusammensein\n\nhttps://eventfrog.ch/de/p/diverses/elterncafe-7451031668700273691.html
LOCATION:tiRumpel
GEO:47.420944;9.356495
URL:https://eventfrog.ch/de/p/diverses/elterncafe-7451031668700273691.html
END:VEVENT
END:VCALENDAR