BEGIN:VCALENDAR
VERSION:2.0
PRODID:EVENTFROG//EVENT//ICAL
BEGIN:VEVENT
UID:20260419T235844Z-7451032740550457874@eventfrog.ch
DTSTAMP:20260419T235844Z
DTSTART:20260509T150000Z
DTEND:20260509T180000Z
SUMMARY:zusammen unterwegs
DESCRIPTION:Sechs Mal Vielseitigkeit in Ausdruck, Farbe und Form.\n\nhttps://eventfrog.ch/de/p/kunst-ausstellungen/zusammen-unterwegs-7451032740550457874.html
LOCATION:Galerie L33 Kunst & Einrahmungen
GEO:47.169445;9.459113
URL:https://eventfrog.ch/de/p/kunst-ausstellungen/zusammen-unterwegs-7451032740550457874.html
END:VEVENT
END:VCALENDAR