BEGIN:VCALENDAR
VERSION:2.0
PRODID:EVENTFROG//EVENT//ICAL
BEGIN:VEVENT
UID:20260425T123301Z-7451233637347896755@eventfrog.ch
DTSTAMP:20260425T123301Z
DTSTART:20260512T130000Z
DTEND:20260512T160000Z
SUMMARY:Charity Run 2026 – Students’ Philanthropic Foundation
DESCRIPTION:Charity Run der Students' Philanthropic Foundation für Bildung und sozialen Wandel. Ein Lauf für Nepal und Ecuador, bessere Zukunftschancen.\n\nhttps://eventfrog.ch/de/p/sport-fitness/freizeitsport/charity-run-2026-students-philanthropic-foundation-7451233637347896755.html
LOCATION:Drei Weieren
GEO:47.421457;9.386639
URL:https://eventfrog.ch/de/p/sport-fitness/freizeitsport/charity-run-2026-students-philanthropic-foundation-7451233637347896755.html
END:VEVENT
END:VCALENDAR