BEGIN:VCALENDAR
VERSION:2.0
PRODID:EVENTFROG//EVENT//ICAL
BEGIN:VEVENT
UID:20260419T183332Z-7451384326007060904@eventfrog.ch
DTSTAMP:20260419T183332Z
DTSTART:20260531T080000Z
SUMMARY:Dauerausstellung und Jüdisches Viertel
DESCRIPTION:Führung.\n\nhttps://eventfrog.ch/de/p/wissenschaft-und-technik/dauerausstellung-und-juedisches-viertel-7451384326007060904.html
LOCATION:Jüdisches Museum
GEO:47.364721;9.688902
URL:https://eventfrog.ch/de/p/wissenschaft-und-technik/dauerausstellung-und-juedisches-viertel-7451384326007060904.html
END:VEVENT
END:VCALENDAR