BEGIN:VCALENDAR
VERSION:2.0
PRODID:EVENTFROG//EVENT//ICAL
BEGIN:VEVENT
UID:20260424T060819Z-7451385626551690374@eventfrog.ch
DTSTAMP:20260424T060819Z
DTSTART:20261025T160000Z
DTEND:20261025T173000Z
SUMMARY:Würth Philharmoniker - Hautnah! Vol. 4
DESCRIPTION:Würth Philharmoniker - Hautnah! Vol. 4\n\nhttps://eventfrog.ch/de/p/konzerte/wuerth-philharmoniker-hautnah-vol-4-7451385626551690374.html
LOCATION:Forum Würth Rorschach
GEO:47.478437;9.506574
URL:https://eventfrog.ch/de/p/konzerte/wuerth-philharmoniker-hautnah-vol-4-7451385626551690374.html
END:VEVENT
END:VCALENDAR