BEGIN:VCALENDAR
VERSION:2.0
PRODID:EVENTFROG//EVENT//ICAL
BEGIN:VEVENT
UID:20260419T214657Z-7451387020931270169@eventfrog.ch
DTSTAMP:20260419T214657Z
DTSTART:20260425T063000Z
DTEND:20260425T150000Z
SUMMARY:Hausmesse bei Wohnwagen Wagner GmbH
DESCRIPTION:Hausmesse mit verkaufsoffenem Wochenende \n\nhttps://eventfrog.ch/de/p/messen/messe/hausmesse-bei-wohnwagen-wagner-gmbh-7451387020931270169.html
LOCATION:Wohnwagen Wagner GmbH
GEO:49.460721;7.144745
URL:https://eventfrog.ch/de/p/messen/messe/hausmesse-bei-wohnwagen-wagner-gmbh-7451387020931270169.html
END:VEVENT
END:VCALENDAR