BEGIN:VCALENDAR
VERSION:2.0
PRODID:EVENTFROG//EVENT//ICAL
BEGIN:VEVENT
UID:20260424T220107Z-7451389883413696105@eventfrog.ch
DTSTAMP:20260424T220107Z
DTSTART:20260617T180000Z
SUMMARY:Ass-Dur
DESCRIPTION:Ass-Dur\n\nhttps://eventfrog.ch/de/p/konzerte/ass-dur-7451389883413696105.html
LOCATION:Casinotheater
GEO:47.499716;8.726641
URL:https://eventfrog.ch/de/p/konzerte/ass-dur-7451389883413696105.html
END:VEVENT
END:VCALENDAR