BEGIN:VCALENDAR
VERSION:2.0
PRODID:EVENTFROG//EVENT//ICAL
BEGIN:VEVENT
UID:20260419T152750Z-7451390276155750212@eventfrog.ch
DTSTAMP:20260419T152750Z
DTSTART:20260512T150000Z
SUMMARY:Über das Absurde: Erwin Wurm – Photographic Sculptures
DESCRIPTION:Über das Absurde: Erwin Wurm - Photographic Sculptures\n\nhttps://eventfrog.ch/de/p/kunst-ausstellungen/ueber-das-absurde-erwin-wurm-photographic-sculptures-7451390276155750212.html
LOCATION:Flatz Museum – Zentrum für Photographie
GEO:47.411510;9.742460
URL:https://eventfrog.ch/de/p/kunst-ausstellungen/ueber-das-absurde-erwin-wurm-photographic-sculptures-7451390276155750212.html
END:VEVENT
END:VCALENDAR