BEGIN:VCALENDAR
VERSION:2.0
PRODID:EVENTFROG//EVENT//ICAL
BEGIN:VEVENT
UID:20260419T163406Z-7451390767669501557@eventfrog.ch
DTSTAMP:20260419T163406Z
DTSTART:20260505T170000Z
SUMMARY:Sister Rising
DESCRIPTION:Film und Diskussion.\n\nhttps://eventfrog.ch/de/p/freizeit-ausfluege/sister-rising-7451390767669501557.html
LOCATION:K9 Kulturzentrum
GEO:47.659907;9.171496
URL:https://eventfrog.ch/de/p/freizeit-ausfluege/sister-rising-7451390767669501557.html
END:VEVENT
END:VCALENDAR