BEGIN:VCALENDAR
VERSION:2.0
PRODID:EVENTFROG//EVENT//ICAL
BEGIN:VEVENT
UID:20260425T194039Z-7451391162466719424@eventfrog.ch
DTSTAMP:20260425T194039Z
DTSTART:20260528T180000Z
SUMMARY:Max Petersen Trio & Sophie Lüssi String Quartet
DESCRIPTION:Jazz.\n\nhttps://eventfrog.ch/de/p/konzerte/max-petersen-trio-sophie-luessi-string-quartet-7451391162466719424.html
LOCATION:Kulturzentrum am Münster
GEO:47.663110;9.175059
URL:https://eventfrog.ch/de/p/konzerte/max-petersen-trio-sophie-luessi-string-quartet-7451391162466719424.html
END:VEVENT
END:VCALENDAR