BEGIN:VCALENDAR
VERSION:2.0
PRODID:EVENTFROG//EVENT//ICAL
BEGIN:VEVENT
UID:20260426T041315Z-7451391163053921990@eventfrog.ch
DTSTAMP:20260426T041315Z
DTSTART:20260530T133000Z
SUMMARY:Metal Rising Vol. 2
DESCRIPTION:Gutrectomy, Ruin Rising, Bosparans Fall, uvm.\n\nhttps://eventfrog.ch/de/p/konzerte/metal-rising-vol-2-7451391163053921990.html
LOCATION:Conrad Sohm
GEO:47.393842;9.766422
URL:https://eventfrog.ch/de/p/konzerte/metal-rising-vol-2-7451391163053921990.html
END:VEVENT
END:VCALENDAR