BEGIN:VCALENDAR
VERSION:2.0
PRODID:EVENTFROG//EVENT//ICAL
BEGIN:VEVENT
UID:20260419T203601Z-7451614425570650737@eventfrog.ch
DTSTAMP:20260419T203601Z
DTSTART:20260509T073000Z
DTEND:20260509T123000Z
SUMMARY:Spendenverkauf "Muttertag" - Inner Wheel Olten-Niederamt
DESCRIPTION:Am 9. Mai 2026 verkauft der Inner Wheel Club Olten-Niederamt vor dem Coop City in Olten feines Hausgemachtes zu Gunsten des Ferienpass Region Olten.\n\nhttps://eventfrog.ch/de/p/maerkte/sonstige-maerkte/spendenverkauf-muttertag-inner-wheel-olten-niederamt-7451614425570650737.html
LOCATION:vor dem Coop City Olten
GEO:47.350446;7.902905
URL:https://eventfrog.ch/de/p/maerkte/sonstige-maerkte/spendenverkauf-muttertag-inner-wheel-olten-niederamt-7451614425570650737.html
END:VEVENT
END:VCALENDAR