BEGIN:VCALENDAR
VERSION:2.0
PRODID:EVENTFROG//EVENT//ICAL
BEGIN:VEVENT
UID:20260425T021115Z-7451614775815969473@eventfrog.ch
DTSTAMP:20260425T021115Z
DTSTART:20260606T180000Z
DTEND:20260606T200000Z
SUMMARY:Konzert NEXT STOP piCanti
DESCRIPTION:"NEXT STOP piCanti": eine spannende musikalische Reise. Steig ein und lass dich in ferne Länder, schwindelnde Höhen oder tiefe Abgründe entführen. Das Fernweh wird auch dich packen!\n\nhttps://eventfrog.ch/de/p/konzerte/chor/konzert-next-stop-picanti-7451614775815969473.html
LOCATION:Singsaal Schulhaus
GEO:47.401128;8.177848
URL:https://eventfrog.ch/de/p/konzerte/chor/konzert-next-stop-picanti-7451614775815969473.html
END:VEVENT
END:VCALENDAR