BEGIN:VCALENDAR
VERSION:2.0
PRODID:EVENTFROG//EVENT//ICAL
BEGIN:VEVENT
UID:20260426T041315Z-7451629811989007674@eventfrog.ch
DTSTAMP:20260426T041315Z
DTSTART:20260624T173000Z
DTEND:20260624T193000Z
SUMMARY:GREYHOUNDS: Christine
DESCRIPTION:Das Theaterstück «Christine» der GREYHOUNDS thematisiert Macht, Schuld und Ausschluss. Premiere 18. Juni, Theater Pavillon Luzern.\n\nhttps://eventfrog.ch/de/p/theater-buehne/theater/greyhounds-christine-7451629811989007674.html
LOCATION:Theater Pavillon Luzern
GEO:47.042500;8.319220
URL:https://eventfrog.ch/de/p/theater-buehne/theater/greyhounds-christine-7451629811989007674.html
END:VEVENT
END:VCALENDAR