BEGIN:VCALENDAR
VERSION:2.0
PRODID:EVENTFROG//EVENT//ICAL
BEGIN:VEVENT
UID:20260420T080733Z-7451660353614698853@eventfrog.ch
DTSTAMP:20260420T080733Z
DTSTART:20260725T150000Z
DTEND:20260725T200000Z
SUMMARY:LIVE SESSION: RAGING NATHANS & VERSE CHORUS INFERNO
DESCRIPTION:Raging Nathans (US) und Verse Chorus Inferno (IT) spielen Punkrock am 25.4.2026 in Bern, mit Drink-In und Barbecue ab 17 Uhr.\n\nhttps://eventfrog.ch/de/p/konzerte/punk/live-session-raging-nathans-verse-chorus-inferno-7451660353614698853.html
LOCATION:info@planetspade.ch
GEO:46.964800;7.456718
URL:https://eventfrog.ch/de/p/konzerte/punk/live-session-raging-nathans-verse-chorus-inferno-7451660353614698853.html
END:VEVENT
END:VCALENDAR