BEGIN:VCALENDAR
VERSION:2.0
PRODID:EVENTFROG//EVENT//ICAL
BEGIN:VEVENT
UID:20260420T013426Z-7451703834928247631@eventfrog.ch
DTSTAMP:20260420T013426Z
DTSTART:20260502T070000Z
DTEND:20260502T123000Z
SUMMARY:Kantonale Ziegenschau auf der Liebegg
DESCRIPTION:Am 2. Mai 2026 werden in Gränichen rund 150 Ziegen bewertet, danach wählen sie Miss, Mister und Miss Schöneuter.\n\nhttps://eventfrog.ch/de/p/diverses/kantonale-ziegenschau-auf-der-liebegg-7451703834928247631.html
LOCATION:Landwirtschaftliches Zentrum Liebegg
GEO:47.338385;8.118133
URL:https://eventfrog.ch/de/p/diverses/kantonale-ziegenschau-auf-der-liebegg-7451703834928247631.html
END:VEVENT
END:VCALENDAR