BEGIN:VCALENDAR
VERSION:2.0
PRODID:EVENTFROG//EVENT//ICAL
BEGIN:VEVENT
UID:20260424T075642Z-7451720075067828015@eventfrog.ch
DTSTAMP:20260424T075642Z
DTSTART:20260509T110000Z
DTEND:20260509T140000Z
SUMMARY:Daddy's CAN braid too
DESCRIPTION:Männer lernen im Workshop Schritt für Schritt, kinderleicht Cornrows zu flechten.\n\nhttps://eventfrog.ch/de/p/kurse-seminare/kunst-kultur/daddy-s-can-braid-too-7451720075067828015.html
LOCATION:Mama Shelter
GEO:47.410764;8.543725
URL:https://eventfrog.ch/de/p/kurse-seminare/kunst-kultur/daddy-s-can-braid-too-7451720075067828015.html
END:VEVENT
END:VCALENDAR