BEGIN:VCALENDAR
VERSION:2.0
PRODID:EVENTFROG//EVENT//ICAL
BEGIN:VEVENT
UID:20260424T060758Z-7451722785204735543@eventfrog.ch
DTSTAMP:20260424T060758Z
DTSTART:20261121T143000Z
DTEND:20261121T225900Z
SUMMARY:Rockpoint Underground Festival 2026
DESCRIPTION:Am 21.11.2026 präsentiert Rockpoint leidenschaftlichen Underground-Rock und Metal zusammengefasst zu einem Festival.\n\nhttps://eventfrog.ch/de/p/konzerte/hard-rock-heavy-metal/rockpoint-underground-festival-2026-7451722785204735543.html
LOCATION:Kulturhalle Sägegasse
GEO:47.055018;7.630519
URL:https://eventfrog.ch/de/p/konzerte/hard-rock-heavy-metal/rockpoint-underground-festival-2026-7451722785204735543.html
END:VEVENT
END:VCALENDAR