BEGIN:VCALENDAR
VERSION:2.0
PRODID:EVENTFROG//EVENT//ICAL
BEGIN:VEVENT
UID:20260424T163904Z-7451748252465007465@eventfrog.ch
DTSTAMP:20260424T163904Z
DTSTART:20260502T140000Z
SUMMARY:Kinderdisco
DESCRIPTION:Tanzen, Sirup, Emotionen!\n\nhttps://eventfrog.ch/de/p/partys/kinderdisco-7451748252465007465.html
LOCATION:Kammgarn
GEO:47.695890;8.638049
URL:https://eventfrog.ch/de/p/partys/kinderdisco-7451748252465007465.html
END:VEVENT
END:VCALENDAR