BEGIN:VCALENDAR
VERSION:2.0
PRODID:EVENTFROG//EVENT//ICAL
BEGIN:VEVENT
UID:20260424T163902Z-7451748252657945454@eventfrog.ch
DTSTAMP:20260424T163902Z
DTSTART:20260502T200000Z
SUMMARY:2000er Party
DESCRIPTION:Mit Kobragypsy und dem Nightrider Soundsystem.\n\nhttps://eventfrog.ch/de/p/partys/2000er-party-7451748252657945454.html
LOCATION:Kammgarn
GEO:47.695890;8.638049
URL:https://eventfrog.ch/de/p/partys/2000er-party-7451748252657945454.html
END:VEVENT
END:VCALENDAR