BEGIN:VCALENDAR
VERSION:2.0
PRODID:EVENTFROG//EVENT//ICAL
BEGIN:VEVENT
UID:20260424T063611Z-7451751666175453667@eventfrog.ch
DTSTAMP:20260424T063611Z
DTSTART:20260504T173000Z
SUMMARY:Anna Rosenwasser
DESCRIPTION:Herz. Feministische Strategien und queere Hoffnung.\n\nhttps://eventfrog.ch/de/p/theater-buehne/anna-rosenwasser-7451751666175453667.html
LOCATION:Werkstatt Chur
GEO:46.848620;9.530680
URL:https://eventfrog.ch/de/p/theater-buehne/anna-rosenwasser-7451751666175453667.html
END:VEVENT
END:VCALENDAR