BEGIN:VCALENDAR
VERSION:2.0
PRODID:EVENTFROG//EVENT//ICAL
BEGIN:VEVENT
UID:20260424T074543Z-7451751716792321768@eventfrog.ch
DTSTAMP:20260424T074543Z
DTSTART:20260529T184500Z
SUMMARY:Dark Hall: Amixs & Tarn
DESCRIPTION:Synth- und Darkwave.\n\nhttps://eventfrog.ch/de/p/konzerte/dark-hall-amixs-tarn-7451751716792321768.html
LOCATION:TapTab
GEO:47.694535;8.636379
URL:https://eventfrog.ch/de/p/konzerte/dark-hall-amixs-tarn-7451751716792321768.html
END:VEVENT
END:VCALENDAR