BEGIN:VCALENDAR
VERSION:2.0
PRODID:EVENTFROG//EVENT//ICAL
BEGIN:VEVENT
UID:20260424T075619Z-7451751834589374065@eventfrog.ch
DTSTAMP:20260424T075619Z
DTSTART:20260530T120000Z
SUMMARY:Matthias Estermann: A new skin for an old ceremony II
DESCRIPTION:Matthias Estermann: A new skin for an old ceremony II\n\nhttps://eventfrog.ch/de/p/kunst-ausstellungen/matthias-estermann-a-new-skin-for-an-old-ceremony-ii-7451751834589374065.html
LOCATION:B74 – Raum für Kunst
GEO:47.053799;8.292761
URL:https://eventfrog.ch/de/p/kunst-ausstellungen/matthias-estermann-a-new-skin-for-an-old-ceremony-ii-7451751834589374065.html
END:VEVENT
END:VCALENDAR