BEGIN:VCALENDAR
VERSION:2.0
PRODID:EVENTFROG//EVENT//ICAL
BEGIN:VEVENT
UID:20260424T060801Z-7451752072788075892@eventfrog.ch
DTSTAMP:20260424T060801Z
DTSTART:20260523T180000Z
SUMMARY:Gray Release Show
DESCRIPTION:Rock, Metal, Support: NeedyNebo (Electronica).\n\nhttps://eventfrog.ch/de/p/konzerte/gray-release-show-7451752072788075892.html
LOCATION:CUADRO22
GEO:46.851816;9.513536
URL:https://eventfrog.ch/de/p/konzerte/gray-release-show-7451752072788075892.html
END:VEVENT
END:VCALENDAR