BEGIN:VCALENDAR
VERSION:2.0
PRODID:EVENTFROG//EVENT//ICAL
BEGIN:VEVENT
UID:20260425T194012Z-7451752277558174120@eventfrog.ch
DTSTAMP:20260425T194012Z
DTSTART:20260501T190000Z
SUMMARY:Deville (Swe) & Fancy and the Boys
DESCRIPTION:Garage Rock, Punk, Stoner Rock.\n\nhttps://eventfrog.ch/de/p/konzerte/deville-swe-fancy-and-the-boys-7451752277558174120.html
LOCATION:Rümpeltum
GEO:47.421686;9.382104
URL:https://eventfrog.ch/de/p/konzerte/deville-swe-fancy-and-the-boys-7451752277558174120.html
END:VEVENT
END:VCALENDAR