BEGIN:VCALENDAR
VERSION:2.0
PRODID:EVENTFROG//EVENT//ICAL
BEGIN:VEVENT
UID:20260424T063712Z-7451771027938381889@eventfrog.ch
DTSTAMP:20260424T063712Z
DTSTART:20260428T170000Z
DTEND:20260428T200000Z
SUMMARY:OPEN CLASS - AFROPULSE GENEVA
DESCRIPTION:OPEN CLASS • 28.04.26 ️\n 19h00 — SETU (Ndombolo choreo )\n 20h15 — LOULOU (Amapiano grooves & footwork drills)\n\nhttps://eventfrog.ch/fr/p/cours-seminaires/art-culture/open-class-afropulse-geneva-7451771027938381889.html
LOCATION:Le Vélodrome
GEO:46.200206;6.129873
URL:https://eventfrog.ch/fr/p/cours-seminaires/art-culture/open-class-afropulse-geneva-7451771027938381889.html
END:VEVENT
END:VCALENDAR