BEGIN:VCALENDAR
VERSION:2.0
PRODID:EVENTFROG//EVENT//ICAL
BEGIN:VEVENT
UID:20260424T063605Z-7451827191531180060@eventfrog.ch
DTSTAMP:20260424T063605Z
DTSTART:20261205T090000Z
DTEND:20261206T170000Z
SUMMARY:Grundlagen der energetischen Heilung, Teil 2/4 (Sa & So)
DESCRIPTION:Ganzheitliche Heilung: Der Weg zu deinem wahren Selbst\nHeilung erfordert eine harmonische Verbindung von Geist, Emotionen, Körper und Energie für nachhaltige Veränderung.\n\nhttps://eventfrog.ch/de/p/gesundheit-spiritualitaet/gesundheit-wohlbefinden/grundlagen-der-energetischen-heilung-teil-2-4-sa-so-7451827191531180060.html
LOCATION:RUUM 8
GEO:47.227448;8.674305
URL:https://eventfrog.ch/de/p/gesundheit-spiritualitaet/gesundheit-wohlbefinden/grundlagen-der-energetischen-heilung-teil-2-4-sa-so-7451827191531180060.html
END:VEVENT
END:VCALENDAR