BEGIN:VCALENDAR
VERSION:2.0
PRODID:EVENTFROG//EVENT//ICAL
BEGIN:VEVENT
UID:20260424T063606Z-7451872401833358369@eventfrog.ch
DTSTAMP:20260424T063606Z
DTSTART:20260516T215900Z
DTEND:20260517T060000Z
SUMMARY:Caletre Release Party w/ special guest : NIMA GORJI
DESCRIPTION:Le Weetamix et Caletre célèbrent le lancement du label avec Nima Gorji, icône de la musique électronique underground.\n\nhttps://eventfrog.ch/fr/p/soirees-fetes/house-techno/caletre-release-party-w-special-guest-nima-gorji-7451872401833358369.html
LOCATION:Weetamix
GEO:46.213812;6.104731
URL:https://eventfrog.ch/fr/p/soirees-fetes/house-techno/caletre-release-party-w-special-guest-nima-gorji-7451872401833358369.html
END:VEVENT
END:VCALENDAR