BEGIN:VCALENDAR
VERSION:2.0
PRODID:EVENTFROG//EVENT//ICAL
BEGIN:VEVENT
UID:20260424T060757Z-7451905959868277399@eventfrog.ch
DTSTAMP:20260424T060757Z
DTSTART:20260523T120000Z
DTEND:20260523T140000Z
SUMMARY:Beginner Braiding Workshop
DESCRIPTION:Never braided before? This is where you start. We cover everything , extension prep, parting, how to start your braid, hair feeding, and finishing ,so you leave with a real skill, not just a tutorial\n\nhttps://eventfrog.ch/en/p/courses-seminars/leisure-hobby/beginner-braiding-workshop-7451905959868277399.html
LOCATION:Hairmony by Placida
GEO:47.375032;8.523100
URL:https://eventfrog.ch/en/p/courses-seminars/leisure-hobby/beginner-braiding-workshop-7451905959868277399.html
END:VEVENT
END:VCALENDAR