BEGIN:VCALENDAR
VERSION:2.0
PRODID:EVENTFROG//EVENT//ICAL
BEGIN:VEVENT
UID:20260424T075557Z-7451922004540678637@eventfrog.ch
DTSTAMP:20260424T075557Z
DTSTART:20260512T173000Z
DTEND:20260512T194500Z
SUMMARY:Barock – Jazz – Worldmusic – Crossover T. Dobler & E. Spanyi
DESCRIPTION:Stimmungsvoller Konzertabend mit Vibraphon und Klavier: Barock trifft Jazz. Mit Apéritif und persönlicher Begegnung mit den Musikern im Cantaleum Haus Sonnenberg.\n\n\nhttps://eventfrog.ch/de/p/konzerte/weitere-musikrichtungen/barock-jazz-worldmusic-crossover-t-dobler-e-spanyi-7451922004540678637.html
LOCATION:Cantaleum Zürich
GEO:47.369491;8.569399
URL:https://eventfrog.ch/de/p/konzerte/weitere-musikrichtungen/barock-jazz-worldmusic-crossover-t-dobler-e-spanyi-7451922004540678637.html
END:VEVENT
END:VCALENDAR