BEGIN:VCALENDAR
VERSION:2.0
PRODID:EVENTFROG//EVENT//ICAL
BEGIN:VEVENT
UID:20260424T064916Z-7451972848040594021@eventfrog.ch
DTSTAMP:20260424T064916Z
DTSTART:20260429T140000Z
DTEND:20260429T154500Z
SUMMARY:Rethinking Economics
DESCRIPTION:Rethinking Economics\n\nhttps://eventfrog.ch/de/p/wissenschaft-und-technik/rethinking-economics-7451972848040594021.html
LOCATION:SQUARE HSG
GEO:47.433291;9.374780
URL:https://eventfrog.ch/de/p/wissenschaft-und-technik/rethinking-economics-7451972848040594021.html
END:VEVENT
END:VCALENDAR