BEGIN:VCALENDAR
VERSION:2.0
PRODID:EVENTFROG//EVENT//ICAL
BEGIN:VEVENT
UID:20260424T073655Z-7451994990333410420@eventfrog.ch
DTSTAMP:20260424T073655Z
DTSTART:20260509T120000Z
DTEND:20260509T150000Z
SUMMARY:Musik- und Tanznachmittag mit Peter Fässler
DESCRIPTION:Beliebte Evergreens und Schlager laden zum Tanzen oder Musikhören in gemütlicher Runde ein; inklusive Zvieri, Unkostenbeitrag Fr. 10.-\n\nhttps://eventfrog.ch/de/p/diverses/musik-und-tanznachmittag-mit-peter-faessler-7451994990333410420.html
LOCATION:Senioren Begegnungszentrum Baumgärtlihof
GEO:47.259083;8.599920
URL:https://eventfrog.ch/de/p/diverses/musik-und-tanznachmittag-mit-peter-faessler-7451994990333410420.html
END:VEVENT
END:VCALENDAR