BEGIN:VCALENDAR
VERSION:2.0
PRODID:EVENTFROG//EVENT//ICAL
BEGIN:VEVENT
UID:20260424T060803Z-7452000225437155531@eventfrog.ch
DTSTAMP:20260424T060803Z
DTSTART:20260517T120000Z
DTEND:20260517T140000Z
SUMMARY:Beyond the Mat: HANDS-ON ADJUSTMENTS LAB
DESCRIPTION:Am 17. Mai in Zürich lernen Yoga-Lehrer Hands-on-Anpassungen in Asanas praktisch in einer unterstützenden Lab-Session.\n\nhttps://eventfrog.ch/de/p/sport-fitness/yoga/beyond-the-mat-hands-on-adjustments-lab-7452000225437155531.html
LOCATION:Soul City
GEO:47.377890;8.529110
URL:https://eventfrog.ch/de/p/sport-fitness/yoga/beyond-the-mat-hands-on-adjustments-lab-7452000225437155531.html
END:VEVENT
END:VCALENDAR