BEGIN:VCALENDAR
VERSION:2.0
PRODID:EVENTFROG//EVENT//ICAL
BEGIN:VEVENT
UID:20260424T063714Z-7452013223211971282@eventfrog.ch
DTSTAMP:20260424T063714Z
DTSTART:20260531T150000Z
DTEND:20260531T163000Z
SUMMARY:«Schwiiz bis Broadway»
DESCRIPTION:eine musikalische Reise:\nVon vertrauten Schweizer Songs über Welthits von Adele, den Beatles, Simon & Garfunkel und Eros Ramazzotti bis hin zu einem glanzvollen Broadway-Musical-Medley.\n\n\nhttps://eventfrog.ch/de/p/konzerte/a-cappella-vocal/schwiiz-bis-broadway-7452013223211971282.html
LOCATION:Reformierte Kirche Rüschlikon
GEO:47.309826;8.554724
URL:https://eventfrog.ch/de/p/konzerte/a-cappella-vocal/schwiiz-bis-broadway-7452013223211971282.html
END:VEVENT
END:VCALENDAR