BEGIN:VCALENDAR
VERSION:2.0
PRODID:EVENTFROG//EVENT//ICAL
BEGIN:VEVENT
UID:20260426T033803Z-7452017965791210115@eventfrog.ch
DTSTAMP:20260426T033803Z
DTSTART:20260509T210000Z
DTEND:20260510T040000Z
SUMMARY:UNTZIG x PLANET B
DESCRIPTION:Untzig x Planet B - Alte Kaserne Zürich - Hardtrance and Hardbounce\n\nhttps://eventfrog.ch/de/p/partys/house-techno/untzig-x-planet-b-7452017965791210115.html
LOCATION:Alte Kaserne
GEO:47.377083;8.529270
URL:https://eventfrog.ch/de/p/partys/house-techno/untzig-x-planet-b-7452017965791210115.html
END:VEVENT
END:VCALENDAR