BEGIN:VCALENDAR
VERSION:2.0
PRODID:EVENTFROG//EVENT//ICAL
BEGIN:VEVENT
UID:20260424T081848Z-7452028352129438396@eventfrog.ch
DTSTAMP:20260424T081848Z
DTSTART:20260613T163000Z
DTEND:20260614T000000Z
SUMMARY:Michael Jackson Tribute Night
DESCRIPTION:2h Michael Jackson Tribute Show mit den grösste Hits live, spektakuläre Performance und Afterparty – ein unvergessliches Erlebnis für alle Generationen.\n\nhttps://eventfrog.ch/de/p/konzerte/pop-rock/michael-jackson-tribute-night-7452028352129438396.html
LOCATION:Zentrum Bärenmatte
GEO:47.372100;8.079760
URL:https://eventfrog.ch/de/p/konzerte/pop-rock/michael-jackson-tribute-night-7452028352129438396.html
END:VEVENT
END:VCALENDAR