BEGIN:VCALENDAR
VERSION:2.0
PRODID:EVENTFROG//EVENT//ICAL
BEGIN:VEVENT
UID:20260424T075600Z-7452079819985021419@eventfrog.ch
DTSTAMP:20260424T075600Z
DTSTART:20260509T210000Z
DTEND:20260510T030000Z
SUMMARY:Pov Night TROPICOQUETA ÉDITION
DESCRIPTION:Plongez dans une soirée tropicale aux sons latinos et animations surprises pour une entrée d'été inoubliable sur Genève. QUE CHIMBA DE VIDA \n\nhttps://eventfrog.ch/fr/p/soirees-fetes/latino-bresil/pov-night-tropicoqueta-edition-7452079819985021419.html
LOCATION:Optimhall Genève
GEO:46.196310;6.129879
URL:https://eventfrog.ch/fr/p/soirees-fetes/latino-bresil/pov-night-tropicoqueta-edition-7452079819985021419.html
END:VEVENT
END:VCALENDAR