BEGIN:VCALENDAR
VERSION:2.0
PRODID:EVENTFROG//EVENT//ICAL
BEGIN:VEVENT
UID:20260426T012813Z-7452084189036299279@eventfrog.ch
DTSTAMP:20260426T012813Z
DTSTART:20260503T083000Z
DTEND:20260503T103000Z
SUMMARY:Vernissage 'Alltägliches'  mit Hansruedi Steiner
DESCRIPTION:Hansruedi Steiners 3D-Ornamente aus Holz und Material sind vom 3. Mai bis 21. Juni sonntags im Museum zu sehen.\n\nhttps://eventfrog.ch/de/p/kunst-ausstellungen/vernissage/vernissage-alltaegliches-mit-hansruedi-steiner-7452084189036299279.html
LOCATION:Dorfmuseum 4654 Lostorf
GEO:47.388320;7.942323
URL:https://eventfrog.ch/de/p/kunst-ausstellungen/vernissage/vernissage-alltaegliches-mit-hansruedi-steiner-7452084189036299279.html
END:VEVENT
END:VCALENDAR