BEGIN:VCALENDAR
VERSION:2.0
PRODID:EVENTFROG//EVENT//ICAL
BEGIN:VEVENT
UID:20260424T081851Z-7452106060024786661@eventfrog.ch
DTSTAMP:20260424T081851Z
DTSTART:20260530T180000Z
DTEND:20260530T190000Z
SUMMARY:Magische Harfenklänge – Daniela Lorenz
DESCRIPTION:Frühlingshafte Harfenklänge aus Lateinamerika: Daniela Lorenz entführt mit feurigen Rhythmen, perlenden Klängen und poetischen Melodien in eine farbenreiche Klangwelt voller Lebensfreude.\n\nhttps://eventfrog.ch/de/p/konzerte/world-ethno/magische-harfenklaenge-daniela-lorenz-7452106060024786661.html
LOCATION:Alte Kirche St. Niklaus
GEO:47.401200;8.578280
URL:https://eventfrog.ch/de/p/konzerte/world-ethno/magische-harfenklaenge-daniela-lorenz-7452106060024786661.html
END:VEVENT
END:VCALENDAR