BEGIN:VCALENDAR
VERSION:2.0
PRODID:EVENTFROG//EVENT//ICAL
BEGIN:VEVENT
UID:20260425T113242Z-7452226652082279293@eventfrog.ch
DTSTAMP:20260425T113242Z
DTSTART:20260502T080000Z
DTEND:20260502T130000Z
SUMMARY:Chocolat & Matcha - Journée dégustation gratuite
DESCRIPTION:Le 2 mai de 10h à 15h, dégustation gratuite de matcha et chocolats en édition limitée chez Maison BUET à Lausanne en collaboration avec My Matcha Harmony\n\nhttps://eventfrog.ch/fr/p/manger-boire/chocolat-matcha-journee-degustation-gratuite-7452226652082279293.html
LOCATION:Maison BUET
GEO:46.521404;6.631607
URL:https://eventfrog.ch/fr/p/manger-boire/chocolat-matcha-journee-degustation-gratuite-7452226652082279293.html
END:VEVENT
END:VCALENDAR