BEGIN:VCALENDAR
VERSION:2.0
PRODID:EVENTFROG//EVENT//ICAL
BEGIN:VEVENT
UID:20260424T063707Z-7452245731216237033@eventfrog.ch
DTSTAMP:20260424T063707Z
DTSTART:20260808T180000Z
DTEND:20260808T224500Z
SUMMARY:Kreuzlinger Seenachtsfest
DESCRIPTION:Erleben Sie das spektakuläre Feuerwerk auf unserem Schiff.\n\n\nhttps://eventfrog.ch/de/p/essen-trinken/kreuzlinger-seenachtsfest-7452245731216237033.html
LOCATION:Hafenbahnhof Rorschach
GEO:47.478589;9.495073
URL:https://eventfrog.ch/de/p/essen-trinken/kreuzlinger-seenachtsfest-7452245731216237033.html
END:VEVENT
END:VCALENDAR