BEGIN:VCALENDAR
VERSION:2.0
PRODID:EVENTFROG//EVENT//ICAL
BEGIN:VEVENT
UID:20260424T063629Z-7452247129425230740@eventfrog.ch
DTSTAMP:20260424T063629Z
DTSTART:20260512T170000Z
DTEND:20260512T180000Z
SUMMARY:Maiandacht der FG Erstfeld in der Jagdmattkapelle
DESCRIPTION:Am 12. Mai 2026 um 19 Uhr findet die Maiandacht in der Jagdmattkapelle statt; alle sind herzlich willkommen.\n\nhttps://eventfrog.ch/de/p/religion-feiertage/gottesdienst/maiandacht-der-fg-erstfeld-in-der-jagdmattkapelle-7452247129425230740.html
LOCATION:Jagdmattkapelle
GEO:46.817645;8.647689
URL:https://eventfrog.ch/de/p/religion-feiertage/gottesdienst/maiandacht-der-fg-erstfeld-in-der-jagdmattkapelle-7452247129425230740.html
END:VEVENT
END:VCALENDAR